BEGIN:VCALENDAR
VERSION:2.0
PRODID:-//ChamberMaster//Event Calendar 2.0//EN
METHOD:PUBLISH
X-PUBLISHED-TTL:P3D
REFRESH-INTERVAL:P3D
CALSCALE:GREGORIAN
BEGIN:VEVENT
DTSTART:20190613T110000Z
DTEND:20190613T130000Z
X-MICROSOFT-CDO-ALLDAYEVENT:FALSE
SUMMARY:Annual Breakfast & Morning of Comedy
DESCRIPTION:Join us as our new Chairman and past Chairman are recognized and the Board of Directors begins their new fiscal year.  Then stay for some laughs as Tom Hayes from North Shore Comedy starts our day off!
X-ALT-DESC;FMTTYPE=text/html:Join us as our new Chairman and past Chairman are recognized and the Board of Directors begins their new fiscal year.&nbsp\; Then stay for some laughs as Tom Hayes from North Shore Comedy starts our day off!
LOCATION:Chez Josef Shoemaker Lane Agawam\, MA 01001
UID:e.3295.3
SEQUENCE:3
DTSTAMP:20260426T015933Z
URL:https://business.ourwrc.com/events/details/annual-breakfast-morning-of-comedy-3
END:VEVENT

END:VCALENDAR
