BEGIN:VCALENDAR
VERSION:2.0
PRODID:-//ChamberMaster//Event Calendar 2.0//EN
METHOD:PUBLISH
X-PUBLISHED-TTL:P3D
REFRESH-INTERVAL:P3D
CALSCALE:GREGORIAN
BEGIN:VEVENT
DTSTART:20260505T210000Z
DTEND:20260505T230000Z
X-MICROSOFT-CDO-ALLDAYEVENT:FALSE
SUMMARY:Cinco de Mayo Networking After 5
DESCRIPTION:Join us for a Cinco de Mayo Celebration and a fun filled evening of networking! Great food and Great fun at Budget Cabinets!
X-ALT-DESC;FMTTYPE=text/html:Join us for a Cinco de Mayo Celebration and a fun filled evening of networking! Great food and Great fun at Budget Cabinets!
LOCATION:Budget Cabinets 300 Main Street Agawam\, MA 01001
UID:e.3295.819
SEQUENCE:3
DTSTAMP:20260420T031701Z
URL:https://business.ourwrc.com/events/details/cinco-de-mayo-networking-after-5-819
END:VEVENT

END:VCALENDAR
