BEGIN:VCALENDAR
VERSION:2.0
PRODID:-//ChamberMaster//Event Calendar 2.0//EN
METHOD:PUBLISH
X-PUBLISHED-TTL:P3D
REFRESH-INTERVAL:P3D
CALSCALE:GREGORIAN
BEGIN:VEVENT
DTSTART:20221201T220000Z
DTEND:20221202T000000Z
X-MICROSOFT-CDO-ALLDAYEVENT:FALSE
SUMMARY:Holiday Networking Spectacular w/ERC5 & YPS
DESCRIPTION:Join the WRC\, YPS and the ERC5 for an evening of festive fun and friendly competition!  Rock your most fabulous "Ugly Holiday Sweater" and vote for your favorite chamber cocktail! Cocktail competition sponsored by: PeoplesBank
X-ALT-DESC;FMTTYPE=text/html:Join the WRC\, YPS and the ERC5 for an evening of festive fun and friendly competition!&nbsp\; Rock your most fabulous &quot\;Ugly Holiday Sweater&quot\; and vote for your favorite chamber cocktail! Cocktail competition sponsored by: PeoplesBank
LOCATION:Storrowton Tavern/Big E 13305 Memorial Ave. West Springfield\, MA 01089
UID:e.3295.194
SEQUENCE:3
DTSTAMP:20260424T233552Z
URL:https://business.ourwrc.com/events/details/holiday-networking-spectacular-w-erc5-yps-194
END:VEVENT

END:VCALENDAR
